BEGIN:VCALENDAR
VERSION:2.0
CALSCALE:GREGORIAN
METHOD:PUBLISH
BEGIN:VTIMEZONE
TZID:Europe/Brussels
X-LIC-LOCATION:Europe/Brussels
BEGIN:STANDARD
TZOFFSETFROM:+0200
TZOFFSETTO:+0100
TZNAME:CET
DTSTART:19701025T030000
RRULE:FREQ=YEARLY;BYMONTH=10;BYDAY=-1SU
END:STANDARD
BEGIN:DAYLIGHT
TZOFFSETFROM:+0100
TZOFFSETTO:+0200
TZNAME:CEST
DTSTART:19700329T020000
RRULE:FREQ=YEARLY;BYMONTH=3;BYDAY=-1SU
END:DAYLIGHT
END:VTIMEZONE
BEGIN:VEVENT
TZID:Europe/Brussels
X-LIC-LOCATION:Europe/Brussels
DTSTART;TZID="Europe/Brussels":20010122T000000
DTEND;TZID="Europe/Brussels":20010122T020000
LOCATION:Parochiezaal Hallaar
UID:bhz9
SEQUENCE:1
ORGANIZER:info@berthoutzonen.be
DTSTAMP:19700101T000000
SUMMARY:Optreden koffie-avond Berthoutdochters\n
DESCRIPTION:
URL:http://www.berthoutzonen.be
END:VEVENT
BEGIN:VEVENT
TZID:Europe/Brussels
X-LIC-LOCATION:Europe/Brussels
DTSTART;TZID="Europe/Brussels":20010203T000000
DTEND;TZID="Europe/Brussels":20010203T020000
LOCATION:Parochiezaal Hallaar
UID:bhz10
SEQUENCE:1
ORGANIZER:info@berthoutzonen.be
DTSTAMP:19700101T000000
SUMMARY:Teerfeest\n
DESCRIPTION:
URL:http://www.berthoutzonen.be
END:VEVENT
BEGIN:VEVENT
TZID:Europe/Brussels
X-LIC-LOCATION:Europe/Brussels
DTSTART;TZID="Europe/Brussels":20010217T000000
DTEND;TZID="Europe/Brussels":20010217T020000
LOCATION:Parochiezaal Hallaar
UID:bhz11
SEQUENCE:1
ORGANIZER:info@berthoutzonen.be
DTSTAMP:19700101T000000
SUMMARY:Winterconcert\n
DESCRIPTION:
URL:http://www.berthoutzonen.be
END:VEVENT
BEGIN:VEVENT
TZID:Europe/Brussels
X-LIC-LOCATION:Europe/Brussels
DTSTART;TZID="Europe/Brussels":20010218T000000
DTEND;TZID="Europe/Brussels":20010218T020000
LOCATION:Parochiezaal Hallaar
UID:bhz12
SEQUENCE:1
ORGANIZER:info@berthoutzonen.be
DTSTAMP:19700101T000000
SUMMARY:Winterconcert\n
DESCRIPTION:
URL:http://www.berthoutzonen.be
END:VEVENT
BEGIN:VEVENT
TZID:Europe/Brussels
X-LIC-LOCATION:Europe/Brussels
DTSTART;TZID="Europe/Brussels":20010317T000000
DTEND;TZID="Europe/Brussels":20010317T020000
LOCATION:
UID:bhz13
SEQUENCE:1
ORGANIZER:info@berthoutzonen.be
DTSTAMP:19700101T000000
SUMMARY:Viering 100-jarige\n
DESCRIPTION:
URL:http://www.berthoutzonen.be
END:VEVENT
BEGIN:VEVENT
TZID:Europe/Brussels
X-LIC-LOCATION:Europe/Brussels
DTSTART;TZID="Europe/Brussels":20010401T000000
DTEND;TZID="Europe/Brussels":20010401T020000
LOCATION:Hallaar Dorp
UID:bhz14
SEQUENCE:1
ORGANIZER:info@berthoutzonen.be
DTSTAMP:19700101T000000
SUMMARY:Processie en jaarmarkt\n
DESCRIPTION:
URL:http://www.berthoutzonen.be
END:VEVENT
BEGIN:VEVENT
TZID:Europe/Brussels
X-LIC-LOCATION:Europe/Brussels
DTSTART;TZID="Europe/Brussels":20010411T000000
DTEND;TZID="Europe/Brussels":20010411T020000
LOCATION:Montfortcollege Rotselaar
UID:bhz15
SEQUENCE:1
ORGANIZER:info@berthoutzonen.be
DTSTAMP:19700101T000000
SUMMARY:Play-in\n
DESCRIPTION:
URL:http://www.berthoutzonen.be
END:VEVENT
BEGIN:VEVENT
TZID:Europe/Brussels
X-LIC-LOCATION:Europe/Brussels
DTSTART;TZID="Europe/Brussels":20010412T000000
DTEND;TZID="Europe/Brussels":20010412T020000
LOCATION:Montfortcollege Rotselaar
UID:bhz373
SEQUENCE:1
ORGANIZER:info@berthoutzonen.be
DTSTAMP:19700101T000000
SUMMARY:Play-in\n
DESCRIPTION:
URL:http://www.berthoutzonen.be
END:VEVENT
BEGIN:VEVENT
TZID:Europe/Brussels
X-LIC-LOCATION:Europe/Brussels
DTSTART;TZID="Europe/Brussels":20010413T000000
DTEND;TZID="Europe/Brussels":20010413T020000
LOCATION:Montfortcollege Rotselaar
UID:bhz374
SEQUENCE:1
ORGANIZER:info@berthoutzonen.be
DTSTAMP:19700101T000000
SUMMARY:Play-in\n
DESCRIPTION:
URL:http://www.berthoutzonen.be
END:VEVENT
BEGIN:VEVENT
TZID:Europe/Brussels
X-LIC-LOCATION:Europe/Brussels
DTSTART;TZID="Europe/Brussels":20010707T000000
DTEND;TZID="Europe/Brussels":20010707T020000
LOCATION:Kerkrade
UID:bhz17
SEQUENCE:1
ORGANIZER:info@berthoutzonen.be
DTSTAMP:19700101T000000
SUMMARY:WMC\n
DESCRIPTION:
URL:http://www.berthoutzonen.be
END:VEVENT
BEGIN:VEVENT
TZID:Europe/Brussels
X-LIC-LOCATION:Europe/Brussels
DTSTART;TZID="Europe/Brussels":20010819T000000
DTEND;TZID="Europe/Brussels":20010819T020000
LOCATION:Parochiezaal Hallaar
UID:bhz18
SEQUENCE:1
ORGANIZER:info@berthoutzonen.be
DTSTAMP:19700101T000000
SUMMARY:IJssalon\n
DESCRIPTION:
URL:http://www.berthoutzonen.be
END:VEVENT
BEGIN:VEVENT
TZID:Europe/Brussels
X-LIC-LOCATION:Europe/Brussels
DTSTART;TZID="Europe/Brussels":20010831T000000
DTEND;TZID="Europe/Brussels":20010831T020000
LOCATION:Fanfarelokaal
UID:bhz19
SEQUENCE:1
ORGANIZER:info@berthoutzonen.be
DTSTAMP:19700101T000000
SUMMARY:Berthout-barbecue\n
DESCRIPTION:
URL:http://www.berthoutzonen.be
END:VEVENT
BEGIN:VEVENT
TZID:Europe/Brussels
X-LIC-LOCATION:Europe/Brussels
DTSTART;TZID="Europe/Brussels":20010908T000000
DTEND;TZID="Europe/Brussels":20010908T020000
LOCATION:Bobbejaanland
UID:bhz20
SEQUENCE:1
ORGANIZER:info@berthoutzonen.be
DTSTAMP:19700101T000000
SUMMARY:Uitstap naar Bobbejaanland\n
DESCRIPTION:
URL:http://www.berthoutzonen.be
END:VEVENT
BEGIN:VEVENT
TZID:Europe/Brussels
X-LIC-LOCATION:Europe/Brussels
DTSTART;TZID="Europe/Brussels":20011006T000000
DTEND;TZID="Europe/Brussels":20011006T020000
LOCATION:Kerk Hallaar
UID:bhz21
SEQUENCE:1
ORGANIZER:info@berthoutzonen.be
DTSTAMP:19700101T000000
SUMMARY:Kerkconcert\n
DESCRIPTION:
URL:http://www.berthoutzonen.be
END:VEVENT
BEGIN:VEVENT
TZID:Europe/Brussels
X-LIC-LOCATION:Europe/Brussels
DTSTART;TZID="Europe/Brussels":20011222T000000
DTEND;TZID="Europe/Brussels":20011222T020000
LOCATION:Kerk Hallaar
UID:bhz22
SEQUENCE:1
ORGANIZER:info@berthoutzonen.be
DTSTAMP:19700101T000000
SUMMARY:Kerstconcert\n
DESCRIPTION:
URL:http://www.berthoutzonen.be
END:VEVENT
END:VCALENDAR