BEGIN:VCALENDAR
VERSION:2.0
CALSCALE:GREGORIAN
METHOD:PUBLISH
BEGIN:VTIMEZONE
TZID:Europe/Brussels
X-LIC-LOCATION:Europe/Brussels
BEGIN:STANDARD
TZOFFSETFROM:+0200
TZOFFSETTO:+0100
TZNAME:CET
DTSTART:19701025T030000
RRULE:FREQ=YEARLY;BYMONTH=10;BYDAY=-1SU
END:STANDARD
BEGIN:DAYLIGHT
TZOFFSETFROM:+0100
TZOFFSETTO:+0200
TZNAME:CEST
DTSTART:19700329T020000
RRULE:FREQ=YEARLY;BYMONTH=3;BYDAY=-1SU
END:DAYLIGHT
END:VTIMEZONE
BEGIN:VEVENT
TZID:Europe/Brussels
X-LIC-LOCATION:Europe/Brussels
DTSTART;TZID="Europe/Brussels":20151113T200000
DTEND;TZID="Europe/Brussels":20151113T220000
LOCATION:Parochiezaal Hallaar
UID:bhz712
SEQUENCE:1
ORGANIZER:info@berthoutzonen.be
DTSTAMP:19700101T000000
SUMMARY:Toneel\n
DESCRIPTION:
URL:http://www.berthoutzonen.be
END:VEVENT
BEGIN:VEVENT
TZID:Europe/Brussels
X-LIC-LOCATION:Europe/Brussels
DTSTART;TZID="Europe/Brussels":20151114T200000
DTEND;TZID="Europe/Brussels":20151114T220000
LOCATION:Parochiezaal Hallaar
UID:bhz713
SEQUENCE:1
ORGANIZER:info@berthoutzonen.be
DTSTAMP:19700101T000000
SUMMARY:Toneel\n
DESCRIPTION:
URL:http://www.berthoutzonen.be
END:VEVENT
BEGIN:VEVENT
TZID:Europe/Brussels
X-LIC-LOCATION:Europe/Brussels
DTSTART;TZID="Europe/Brussels":20151119T200000
DTEND;TZID="Europe/Brussels":20151119T220000
LOCATION:Parochiezaal Hallaar
UID:bhz714
SEQUENCE:1
ORGANIZER:info@berthoutzonen.be
DTSTAMP:19700101T000000
SUMMARY:Toneel\n
DESCRIPTION:
URL:http://www.berthoutzonen.be
END:VEVENT
BEGIN:VEVENT
TZID:Europe/Brussels
X-LIC-LOCATION:Europe/Brussels
DTSTART;TZID="Europe/Brussels":20151120T200000
DTEND;TZID="Europe/Brussels":20151120T220000
LOCATION:Parochiezaal Hallaar
UID:bhz715
SEQUENCE:1
ORGANIZER:info@berthoutzonen.be
DTSTAMP:19700101T000000
SUMMARY:Toneel\n
DESCRIPTION:
URL:http://www.berthoutzonen.be
END:VEVENT
BEGIN:VEVENT
TZID:Europe/Brussels
X-LIC-LOCATION:Europe/Brussels
DTSTART;TZID="Europe/Brussels":20151121T200000
DTEND;TZID="Europe/Brussels":20151121T220000
LOCATION:Parochiezaal Hallaar
UID:bhz716
SEQUENCE:1
ORGANIZER:info@berthoutzonen.be
DTSTAMP:19700101T000000
SUMMARY:Toneel\n
DESCRIPTION:
URL:http://www.berthoutzonen.be
END:VEVENT
END:VCALENDAR